BEGIN:VCALENDAR
VERSION:2.0
PRODID:-//hacksw/handcal//NONSGML v1.0//EN
CALSCALE:GREGORIAN
BEGIN:VTIMEZONE
TZID:GMT Standard Time
BEGIN:STANDARD
DTSTART:16010101T020000
TZOFFSETFROM:+0100
TZOFFSETTO:+0000
RRULE:FREQ=YEARLY;INTERVAL=1;BYDAY=-1SU;BYMONTH=10
END:STANDARD
BEGIN:DAYLIGHT
DTSTART:16010101T010000
TZOFFSETFROM:+0000
TZOFFSETTO:+0100
RRULE:FREQ=YEARLY;INTERVAL=1;BYDAY=-1SU;BYMONTH=3
END:DAYLIGHT
END:VTIMEZONE
BEGIN:VEVENT
LOCATION:Old Gym LG10\, University of Birmingham
DESCRIPTION:University of Birmingham\n\nhttps://midlandsaerospace.org.uk/event-link/575
DTSTART;TZID=GMT Standard Time:20260223T100000
DTEND;TZID=GMT Standard Time:20260223T150000
SUMMARY:Midlands Space Cluster Engagement Day: Regional Facilities\, Assets\, and Opportunity
DTSTAMP:20260423T073941
END:VEVENT
END:VCALENDAR