BEGIN:VCALENDAR
VERSION:2.0
PRODID:-//hacksw/handcal//NONSGML v1.0//EN
CALSCALE:GREGORIAN
BEGIN:VTIMEZONE
TZID:GMT Standard Time
BEGIN:STANDARD
DTSTART:16010101T020000
TZOFFSETFROM:+0100
TZOFFSETTO:+0000
RRULE:FREQ=YEARLY;INTERVAL=1;BYDAY=-1SU;BYMONTH=10
END:STANDARD
BEGIN:DAYLIGHT
DTSTART:16010101T010000
TZOFFSETFROM:+0000
TZOFFSETTO:+0100
RRULE:FREQ=YEARLY;INTERVAL=1;BYDAY=-1SU;BYMONTH=3
END:DAYLIGHT
END:VTIMEZONE
BEGIN:VEVENT
LOCATION:Space Park Leicester
DESCRIPTION:Space Park Leicester\n\nhttps://midlandsaerospace.org.uk/event-link/560
DTSTART;TZID=GMT Standard Time:20251127T150000
DTEND;TZID=GMT Standard Time:20251127T183000
SUMMARY:MAA members meeting and AGM
DTSTAMP:20260423T074019
END:VEVENT
END:VCALENDAR